BEGIN:VCALENDAR
VERSION:2.0
PRODID:-//The Melt Away - ECPv6.15.17//NONSGML v1.0//EN
CALSCALE:GREGORIAN
METHOD:PUBLISH
X-ORIGINAL-URL:https://www.themeltawayskn.com
X-WR-CALDESC:Events for The Melt Away
REFRESH-INTERVAL;VALUE=DURATION:PT1H
X-Robots-Tag:noindex
X-PUBLISHED-TTL:PT1H
BEGIN:VTIMEZONE
TZID:UTC
BEGIN:STANDARD
TZOFFSETFROM:+0000
TZOFFSETTO:+0000
TZNAME:UTC
DTSTART:20230101T000000
END:STANDARD
END:VTIMEZONE
BEGIN:VEVENT
DTSTART;TZID=UTC:20241110T200000
DTEND;TZID=UTC:20241110T200000
DTSTAMP:20260423T100331
CREATED:20241108T192003Z
LAST-MODIFIED:20241108T192309Z
UID:442-1731268800-1731268800@www.themeltawayskn.com
SUMMARY:Latin Sundays
DESCRIPTION:
URL:https://www.themeltawayskn.com/event/latin-sundays/
CATEGORIES:Latin Sundays
ATTACH;FMTTYPE=image/jpeg:https://www.themeltawayskn.com/wp-content/uploads/2024/09/460835800_1567319567215685_3672566675681073251_n.jpg
END:VEVENT
BEGIN:VEVENT
DTSTART;TZID=UTC:20241108T080000
DTEND;TZID=UTC:20241108T170000
DTSTAMP:20260423T100331
CREATED:20241108T164424Z
LAST-MODIFIED:20241108T193455Z
UID:425-1731052800-1731085200@www.themeltawayskn.com
SUMMARY:Night Under the Stars with Charnelle
DESCRIPTION:
URL:https://www.themeltawayskn.com/event/night-under-the-stars-with-charnelle/
LOCATION:The Melt Away\, Walwyn Street\, Buckley’s Site\, Basseterre\, Saint Kitts and Nevis
CATEGORIES:Night Under the Stars
ATTACH;FMTTYPE=image/jpeg:https://www.themeltawayskn.com/wp-content/uploads/2024/10/The-Melt-Away_Night-Under-The-Stars_Charnelle.jpg
END:VEVENT
END:VCALENDAR